BEGIN:VCALENDAR
VERSION:2.0
PRODID:DPCALENDAR
CALSCALE:GREGORIAN
X-WR-TIMEZONE:UTC
BEGIN:VEVENT
DTSTART;TZID=UTC:20240815T194500
DTEND;TZID=UTC:20240815T211500
UID:213232B2-9772-40D9-ADBF-1A0C56DBCFED
SUMMARY:The History of Shortlands - John Shortland
CREATED:20240614T234415Z
DTSTAMP:20240614T234415Z
URL:https://society.bourneendbucksops.org.uk/index.php/component/dpcalendar/event/1?calid=9
DESCRIPTION:Talk - The History of Shortlands - John Shortland - 15 Aug 2024
X-ALT-DESC;FMTTYPE=text/html:<p><a href="index.php?option=com_content&amp;view=article&amp;id=1&amp;catid=8">Talk - The History of Shortlands - John Shortland - 15 Aug 2024</a></p>
LAST-MODIFIED:20240626T161939Z
SEQUENCE:1010124
LOCATION:Wakeman Road\, SL8 5SX Bourne End\, England\, United Kingdom
GEO:51.57923440;-0.71003908
X-ROOMS:May Woollerton Hall
X-LOCATION-DISPLAYNAME:Bourne End Community Centre, Wakeman Road, Bourne End, England SL8 5SX, 241 [May Woollerton Hall]
X-ACCESS:1
X-HITS:146
X-COLOR:ffff00
X-IMAGE-FULL:https://society.bourneendbucksops.org.uk/images/Meetings/20240815-Shortlands-450px.jpg
X-IMAGE-FULL-ALT:Frontage of Shortlands in The Parade
X-IMAGE-FULL-CAPTION:Frontage of Shortlands in The Parade
X-IMAGE-INTRO:https://society.bourneendbucksops.org.uk/images/Meetings/20240815-Shortlands-450px.jpg
X-IMAGE-INTRO-ALT:Frontage of Shortlands in The Parade
X-IMAGE-INTRO-CAPTION:Frontage of Shortlands in The Parade
X-SHOW-END-TIME:1
END:VEVENT
BEGIN:VEVENT
DTSTART;TZID=UTC:20250220T200000
DTEND;TZID=UTC:20250220T213000
UID:A92F3FB5-737E-40B1-932F-10A8C3D7DACF
SUMMARY:Tracing the History of a Community
CREATED:20250208T194603Z
DTSTAMP:20250208T194603Z
URL:https://society.bourneendbucksops.org.uk/index.php/meetings-and-talks/talk-tracing-the-history-of-a-community-20-feb-25
DESCRIPTION:This talk will provide information on how to conduct a one place study of a local community. 
X-ALT-DESC;FMTTYPE=text/html:<p>This talk will provide information on how to conduct a one place study of a local community.&nbsp;</p>
LAST-MODIFIED:20250208T194708Z
SEQUENCE:65
LOCATION:Wakeman Road\, SL8 5SX Bourne End\, England\, United Kingdom
GEO:51.57923440;-0.71003908
X-ROOMS:Target Room
X-LOCATION-DISPLAYNAME:Bourne End Community Centre, Wakeman Road, Bourne End, England SL8 5SX, 241 [Target Room]
X-ACCESS:1
X-HITS:38
X-COLOR:ff0000
X-SHOW-END-TIME:1
END:VEVENT
BEGIN:VEVENT
DTSTART;TZID=UTC:20250717T200000
DTEND;TZID=UTC:20250717T213000
UID:C9DF01CB-06ED-44DD-8F2C-368F8AE09552
SUMMARY:Fireside Chat: Trevor Barnett
CREATED:20250614T225838Z
DTSTAMP:20250614T225838Z
URL:https://society.bourneendbucksops.org.uk/index.php/meetings-and-talks/fireside-chat-a-conversation-with-trevor-barnett-17-jul-2025
LAST-MODIFIED:20250614T232437Z
SEQUENCE:1559
LOCATION:Wakeman Road\, SL8 5SX Bourne End\, England\, United Kingdom
GEO:51.57923440;-0.71003908
X-ROOMS:Target Room
X-LOCATION-DISPLAYNAME:Bourne End Community Centre, Wakeman Road, Bourne End, England SL8 5SX, 241 [Target Room]
X-ACCESS:1
X-HITS:29
X-COLOR:ff0000
X-IMAGE-FULL:https://society.bourneendbucksops.org.uk/images/Meetings/BEBOPSS-FiresideChat-AIImage-450px.png
X-IMAGE-INTRO:https://society.bourneendbucksops.org.uk/images/Meetings/BEBOPSS-FiresideChat-AIImage-450px.png
X-SHOW-END-TIME:1
END:VEVENT
BEGIN:VEVENT
DTSTART;TZID=UTC:20250821T200000
DTEND;TZID=UTC:20250821T213000
UID:8A9D246E-9C7C-4C24-A910-2A58362297D0
SUMMARY:Fireside Chat: Brian Ody
CREATED:20250614T225838Z
DTSTAMP:20250614T225838Z
URL:https://society.bourneendbucksops.org.uk/index.php/meetings-and-talks/fireside-chat-a-conversation-with-brian-ody-21-aug-2025
LAST-MODIFIED:20250614T232502Z
SEQUENCE:1584
LOCATION:Wakeman Road\, SL8 5SX Bourne End\, England\, United Kingdom
GEO:51.57923440;-0.71003908
X-ROOMS:Target Room
X-LOCATION-DISPLAYNAME:Bourne End Community Centre, Wakeman Road, Bourne End, England SL8 5SX, 241 [Target Room]
X-ACCESS:1
X-HITS:44
X-COLOR:ff0000
X-IMAGE-FULL:https://society.bourneendbucksops.org.uk/images/Meetings/BEBOPSS-FiresideChat-AIImage-450px.png
X-IMAGE-INTRO:https://society.bourneendbucksops.org.uk/images/Meetings/BEBOPSS-FiresideChat-AIImage-450px.png
X-SHOW-END-TIME:1
END:VEVENT
BEGIN:VEVENT
DTSTART;TZID=UTC:20251016T200000
DTEND;TZID=UTC:20251016T213000
UID:245C987B-5C1F-467A-ADCE-88DF40173FE5
SUMMARY:Fireside Chat: Ken Townsend
CREATED:20250614T225838Z
DTSTAMP:20250614T225838Z
URL:https://society.bourneendbucksops.org.uk/index.php/meetings-and-talks/fireside-chat-a-conversation-with-brian-ody-21-aug-2025
LAST-MODIFIED:20251004T114131Z
SEQUENCE:9636173
LOCATION:Wakeman Road\, SL8 5SX Bourne End\, England\, United Kingdom
GEO:51.57923440;-0.71003908
X-ROOMS:Target Room
X-LOCATION-DISPLAYNAME:Bourne End Community Centre, Wakeman Road, Bourne End, England SL8 5SX, 241 [Target Room]
X-ACCESS:1
X-HITS:20
X-COLOR:ff0000
X-IMAGE-FULL:https://society.bourneendbucksops.org.uk/images/Meetings/BEBOPSS-FiresideChat-AIImage-450px.png
X-IMAGE-INTRO:https://society.bourneendbucksops.org.uk/images/Meetings/BEBOPSS-FiresideChat-AIImage-450px.png
X-SHOW-END-TIME:1
END:VEVENT
BEGIN:VEVENT
DTSTART;TZID=UTC:20251120T200000
DTEND;TZID=UTC:20251120T213000
UID:ED2D8BA9-26B7-438E-A6FD-2F566D8897E7
SUMMARY:The Historic Pubs in and Around Bourne End
CREATED:20250208T194603Z
DTSTAMP:20250208T194603Z
URL:https://society.bourneendbucksops.org.uk/index.php/meetings-and-talks/talk-tracing-the-history-of-a-community-20-feb-25
LAST-MODIFIED:20251004T114714Z
SEQUENCE:20534471
LOCATION:Wakeman Road\, SL8 5SX Bourne End\, England\, United Kingdom
GEO:51.57923440;-0.71003908
X-ROOMS:May Woollerton Hall
X-LOCATION-DISPLAYNAME:Bourne End Community Centre, Wakeman Road, Bourne End, England SL8 5SX, 241 [May Woollerton Hall]
X-ACCESS:1
X-HITS:61
X-COLOR:ff0000
X-IMAGE-FULL:https://society.bourneendbucksops.org.uk/images/Meetings/20251120-HistoricPubs-TheHarrow-450px.png
X-IMAGE-INTRO:https://society.bourneendbucksops.org.uk/images/Meetings/20251120-HistoricPubs-TheHarrow-100px.png
X-SHOW-END-TIME:1
END:VEVENT
BEGIN:VEVENT
DTSTART;TZID=UTC:20260319T200000
DTEND;TZID=UTC:20260319T213000
UID:09C44AA8-5905-4D8F-BA7C-354F082C725F
SUMMARY:Fireside Chat: Geoff Britt
CREATED:20250614T225838Z
DTSTAMP:20250614T225838Z
URL:https://society.bourneendbucksops.org.uk/index.php/meetings-and-talks/fireside-chat-in-conversation-with-geoff-britt-19-mar-2026
LAST-MODIFIED:20260223T105709Z
SEQUENCE:21902311
LOCATION:Wakeman Road\, SL8 5SX Bourne End\, England\, United Kingdom
GEO:51.57923440;-0.71003908
X-ROOMS:Target Room
X-LOCATION-DISPLAYNAME:Bourne End Community Centre, Wakeman Road, Bourne End, England SL8 5SX, 241 [Target Room]
X-ACCESS:1
X-HITS:60
X-COLOR:ff0000
X-IMAGE-FULL:https://society.bourneendbucksops.org.uk/images/Meetings/BEBOPSS-FiresideChat-AIImage-450px.png
X-IMAGE-INTRO:https://society.bourneendbucksops.org.uk/images/Meetings/BEBOPSS-FiresideChat-AIImage-450px.png
X-SHOW-END-TIME:1
END:VEVENT
BEGIN:VEVENT
DTSTART;TZID=UTC:20260416T200000
DTEND;TZID=UTC:20260416T213000
UID:B7E45A11-DC10-40CC-BDAF-1D8D7667CF22
SUMMARY:Bourne End in the Movies!!
CREATED:20260307T204226Z
DTSTAMP:20260307T204226Z
URL:https://society.bourneendbucksops.org.uk/index.php/meetings-and-talks/talk-bourne-end-in-the-movies-david-wherrell-16-apr-26
LAST-MODIFIED:20260307T210121Z
SEQUENCE:1135
LOCATION:Wakeman Road\, SL8 5SX Bourne End\, England\, United Kingdom
GEO:51.57923440;-0.71003908
X-ROOMS:May Woollerton Hall
X-LOCATION-DISPLAYNAME:Bourne End Community Centre, Wakeman Road, Bourne End, England SL8 5SX, 241 [May Woollerton Hall]
X-ACCESS:1
X-HITS:75
X-COLOR:ff0000
X-IMAGE-FULL:https://society.bourneendbucksops.org.uk/images/Meetings/20260416-DavidWherrell-1973-MissBourneEnd-MovieScreenshot-100px.jpg
X-IMAGE-INTRO:https://society.bourneendbucksops.org.uk/images/Meetings/20260416-DavidWherrell-1965Carnival-MovieScreenshot-100px.jpg
X-SHOW-END-TIME:1
END:VEVENT
BEGIN:VEVENT
DTSTART;TZID=UTC:20260521T200000
DTEND;TZID=UTC:20260521T213000
UID:79486AAD-A372-4487-9C22-DE11DE760463
SUMMARY:Historic Shops in Bourne End
CREATED:20260307T204226Z
DTSTAMP:20260307T204226Z
URL:https://society.bourneendbucksops.org.uk/index.php/component/dpcalendar/event/18?calid=9
LAST-MODIFIED:20260416T170732Z
SEQUENCE:3443106
LOCATION:Wakeman Road\, SL8 5SX Bourne End\, England\, United Kingdom
GEO:51.57923440;-0.71003908
X-ROOMS:May Woollerton Hall
X-LOCATION-DISPLAYNAME:Bourne End Community Centre, Wakeman Road, Bourne End, England SL8 5SX, 241 [May Woollerton Hall]
X-ACCESS:1
X-HITS:16
X-COLOR:ff0000
X-IMAGE-FULL:https://society.bourneendbucksops.org.uk/images/Meetings/0363h-The_Parade-Bourne_End-19091105-F-450px.jpeg
X-IMAGE-INTRO:https://society.bourneendbucksops.org.uk/images/Meetings/0363h-The_Parade-Bourne_End-19091105-F-100px.jpeg
X-SHOW-END-TIME:1
END:VEVENT
END:VCALENDAR