BEGIN:VCALENDAR
VERSION:2.0
PRODID:DPCALENDAR
CALSCALE:GREGORIAN
X-WR-TIMEZONE:UTC
BEGIN:VEVENT
DTSTART;TZID=UTC:20250717T193000
DTEND;TZID=UTC:20250717T200000
UID:AEFAFFBA-2F85-4B9D-8F2F-C8B8E989B2CF
SUMMARY:Annual General Meeting 2025
CREATED:20250614T231602Z
DTSTAMP:20250614T231602Z
URL:https://society.bourneendbucksops.org.uk/index.php?view=article&id=20:annual-general-meeting-17th-july-2025&catid=12
LAST-MODIFIED:20250614T233359Z
SEQUENCE:1077
LOCATION:Wakeman Road\, SL8 5SX Bourne End\, England\, United Kingdom
GEO:51.57923440;-0.71003908
X-ROOMS:Target Room
X-LOCATION-DISPLAYNAME:Bourne End Community Centre, Wakeman Road, Bourne End, England SL8 5SX, 241 [Target Room]
X-ACCESS:1
X-HITS:32
X-COLOR:ffff00
X-IMAGE-FULL:https://society.bourneendbucksops.org.uk/images/Logos/BEBOPSS-Logo-v5-580x580.png
X-IMAGE-INTRO:https://society.bourneendbucksops.org.uk/images/Logos/BEBOPSS-Logo-v5-580x580.png
X-SHOW-END-TIME:1
END:VEVENT
END:VCALENDAR