BEGIN:VCALENDAR
VERSION:2.0
PRODID:DPCALENDAR
CALSCALE:GREGORIAN
X-WR-TIMEZONE:UTC
BEGIN:VEVENT
DTSTART;TZID=UTC:20240715T200000
DTEND;TZID=UTC:20240715T213000
UID:8A5D7400-8EE3-4A84-ADBB-A2AA4CC45F23
SUMMARY:Inaugural meeting
CREATED:20240615T001032Z
DTSTAMP:20240615T001032Z
URL:https://society.bourneendbucksops.org.uk/index.php/component/dpcalendar/event/2?calid=11
DESCRIPTION:Inaugural meeting - 15 Jul 24
X-ALT-DESC;FMTTYPE=text/html:<p><a href="index.php?option=com_content&amp;view=article&amp;id=2&amp;catid=8">Inaugural meeting - 15 Jul 24</a></p>
LAST-MODIFIED:20240625T164014Z
SEQUENCE:923382
LOCATION:Wakeman Road\, SL8 5SX Bourne End\, England\, United Kingdom
GEO:51.57923440;-0.71003908
X-ROOMS:Target Room
X-LOCATION-DISPLAYNAME:Bourne End Community Centre, Wakeman Road, Bourne End, England SL8 5SX, 241 [Target Room]
X-ACCESS:1
X-HITS:119
X-COLOR:0000ff
X-IMAGE-FULL:https://society.bourneendbucksops.org.uk/images/Logos/BEBOPSS-Logo-v5-100x100.png
X-IMAGE-FULL-ALT:BEBOPSS logo
X-IMAGE-INTRO:https://society.bourneendbucksops.org.uk/images/Logos/BEBOPSS-Logo-v5-100x100.png
X-IMAGE-INTRO-ALT:BEBOPSS logo
X-SHOW-END-TIME:1
END:VEVENT
BEGIN:VEVENT
DTSTART;TZID=UTC:20250116T200000
DTEND;TZID=UTC:20250116T213000
UID:A7FBF73D-13C9-4957-823E-047EA6CFC830
SUMMARY:Research meeting - Shops and Rivers
CREATED:20240811T103118Z
DTSTAMP:20240811T103118Z
URL:https://society.bourneendbucksops.org.uk/index.php/component/dpcalendar/event/5?calid=11
DESCRIPTION:Research Meeting - Shops and The River - 16 Jan 25
X-ALT-DESC;FMTTYPE=text/html:<p><a href="index.php?option=com_content&amp;view=article&amp;id=9&amp;catid=8">Research Meeting - Shops and The River - 16 Jan 25</a></p>
LAST-MODIFIED:20241116T184125Z
SEQUENCE:8410207
LOCATION:Wakeman Road\, SL8 5SX Bourne End\, England\, United Kingdom
GEO:51.57946302;-0.71057111
X-LOCATION-DISPLAYNAME:Bourne End Library Wakeman Road, Bourne End, England SL8 5SX, 241 (2)
X-ACCESS:1
X-HITS:43
X-COLOR:0000ff
X-SHOW-END-TIME:1
END:VEVENT
BEGIN:VEVENT
DTSTART;TZID=UTC:20250320T200000
DTEND;TZID=UTC:20250320T213000
UID:8B324895-4E26-46B7-B370-9650B7958071
SUMMARY:Research Evening - Brian Wheals Collection
CREATED:20250208T194856Z
DTSTAMP:20250208T194856Z
URL:https://society.bourneendbucksops.org.uk/index.php/meetings-and-talks/research-meeting-shops-and-more-16-mar-25
DESCRIPTION:Our March ,meeting is a research meeting. At this meeting we will roll our sleeves up and continue our look at The Brian Wheals Collection. 
X-ALT-DESC;FMTTYPE=text/html:<p>Our March ,meeting is a research meeting. At this meeting we will roll our sleeves up and continue our look at The Brian Wheals Collection.&nbsp;</p>
LAST-MODIFIED:20250208T194952Z
SEQUENCE:56
LOCATION:Wakeman Road\, SL8 5SX Bourne End\, England\, United Kingdom
GEO:51.57946302;-0.71057111
X-LOCATION-DISPLAYNAME:Bourne End Library Wakeman Road, Bourne End, England SL8 5SX, 241 (2)
X-ACCESS:1
X-HITS:18
X-COLOR:0000ff
X-SHOW-END-TIME:1
END:VEVENT
BEGIN:VEVENT
DTSTART;TZID=UTC:20250515T200000
DTEND;TZID=UTC:20250515T213000
UID:70296A1E-4FB8-49A1-B958-2ABFF18564E2
SUMMARY:Research Evening - Brian Wheals Collection
CREATED:20250208T194856Z
DTSTAMP:20250208T194856Z
URL:https://society.bourneendbucksops.org.uk/index.php/meetings-and-talks/research-meeting-shops-and-more-16-mar-25
DESCRIPTION:Our May meeting is a research meeting. At this meeting we will roll our sleeves up and continue our look at The Brian Wheals Collection. 
X-ALT-DESC;FMTTYPE=text/html:<p>Our May meeting is a research meeting. At this meeting we will roll our sleeves up and continue our look at The Brian Wheals Collection.&nbsp;</p>
LAST-MODIFIED:20250511T144401Z
SEQUENCE:7930505
LOCATION:Wakeman Road\, SL8 5SX Bourne End\, England\, United Kingdom
GEO:51.57946302;-0.71057111
X-LOCATION-DISPLAYNAME:Bourne End Library Wakeman Road, Bourne End, England SL8 5SX, 241 (2)
X-ACCESS:1
X-HITS:12
X-COLOR:0000ff
X-SHOW-END-TIME:1
END:VEVENT
BEGIN:VEVENT
DTSTART;TZID=UTC:20250918T200000
DTEND;TZID=UTC:20250918T213000
UID:CA53F2F8-9334-451D-A1DE-1FE9E6D2016B
SUMMARY:Research Meeting - Shops and more
CREATED:20250614T233146Z
DTSTAMP:20250614T233146Z
URL:https://society.bourneendbucksops.org.uk/index.php/meetings-and-talks/research-meeting-shops-and-more-18-sep-25
LAST-MODIFIED:20250614T233146Z
SEQUENCE:0
LOCATION:Wakeman Road\, SL8 5SX Bourne End\, England\, United Kingdom
GEO:51.57946302;-0.71057111
X-LOCATION-DISPLAYNAME:Bourne End Library Wakeman Road, Bourne End, England SL8 5SX, 241 (2)
X-ACCESS:1
X-HITS:60
X-COLOR:0000ff
X-IMAGE-FULL:https://society.bourneendbucksops.org.uk/images/Meetings/20241022-ResearchEvening-450px.jpg
X-IMAGE-INTRO:https://society.bourneendbucksops.org.uk/images/Meetings/20241022-ResearchEvening-450px.jpg
X-SHOW-END-TIME:1
END:VEVENT
BEGIN:VEVENT
DTSTART;TZID=UTC:20260219T200000
DTEND;TZID=UTC:20260219T213000
UID:837E9BC3-88E4-4718-9444-E05928520FC2
SUMMARY:Research Meeting 
CREATED:20250614T233146Z
DTSTAMP:20250614T233146Z
URL:https://society.bourneendbucksops.org.uk/index.php/meetings-and-talks/research-meeting-shops-and-more-18-sep-25
LAST-MODIFIED:20260217T223130Z
SEQUENCE:21423584
LOCATION:Wakeman Road\, SL8 5SX Bourne End\, England\, United Kingdom
GEO:51.57946302;-0.71057111
X-LOCATION-DISPLAYNAME:Bourne End Library Wakeman Road, Bourne End, England SL8 5SX, 241 (2)
X-ACCESS:1
X-HITS:20
X-COLOR:0000ff
X-IMAGE-FULL:https://society.bourneendbucksops.org.uk/images/Meetings/20241022-ResearchEvening-450px.jpg
X-IMAGE-INTRO:https://society.bourneendbucksops.org.uk/images/Meetings/20241022-ResearchEvening-450px.jpg
X-SHOW-END-TIME:1
END:VEVENT
END:VCALENDAR